{"text_format":"3","workbook":"xlsx","n_sheets":5,"sheets":["DANE","DANE Techniczne","Dane Techniczne PL","Cennik zakupu","Sugerowane ceny sprze brutto"],"not_rendered":{"images":11,"external_links":1,"defined_names":4},"read":"whole","date_system":"1900"}

{"sheet":"DANE","index":0,"n_rows":12,"n_cols":43,"rows_kept":12,"hidden":true,"merged":[[11,2,11,12]]}
[null,"PriceLIST","PL_2020"]
[null,"Currency:","PLN"]
[null,"Valid till:","31.12.2021"]
[null,"Delivery terms:","DAP","Art.-No",{"$nulls":3},"PG",{"$nulls":5},"Art.-No",{"$nulls":3},"PG",{"$nulls":5},"Art.-No",{"$nulls":3},"PG",{"$nulls":5},"Art.-No",{"$nulls":3},"PG"]
["Group","DESCRIPTION\nARTICLE No","DIMENSION*","LC","VOL.","WEIGHT"," FABRIC USAGE","A","I","II","III","IV","E","LC \nCOVER","VOL.","WEIGHT"," FABRIC USAGE","A","I","II","III","IV","E","LCV","VOL.","WEIGHT"," FABRIC USAGE","A","I","II","III","IV","E","LCV \nCOVER","VOL.","WEIGHT"," FABRIC USAGE","A","I","II","III","IV","E"]
["lill_4seater","4 seater /two parts/","270x107x84/42","E1536-0900-6S",1.89,108,{"v":13.904000000000002,"d":"13.9"},{"v":3300,"d":"3,300"},{"v":3485,"d":"3,485"},{"v":3805,"d":"3,805"},{"v":4130,"d":"4,130"},{"v":4405,"d":"4,405"},{"v":5095,"d":"5,095"},"E0536-0900-6",{"v":0.037,"d":"0.04"},{"v":8.5,"d":"9"},{"v":13.904000000000002,"d":"13.9"},{"v":2155,"d":"2,155"},{"v":2085,"d":"2,085"},{"v":2070,"d":"2,070"},{"v":2020,"d":"2,020"},{"v":1915,"d":"1,915"},{"v":2395,"d":"2,395"},"E1536-0900-4S",1.89,108,{"v":13.904000000000002,"d":"13.9"},{"v":3400,"d":"3,400"},{"v":3590,"d":"3,590"},{"v":3920,"d":"3,920"},{"v":4255,"d":"4,255"},{"v":4540,"d":"4,540"},{"v":5250,"d":"5,250"},"E0536-0900-4",{"v":0.037,"d":"0.04"},{"v":8.5,"d":"9"},{"v":13.904000000000002,"d":"13.9"},{"v":2155,"d":"2,155"},{"v":2085,"d":"2,085"},{"v":2070,"d":"2,070"},{"v":2020,"d":"2,020"},{"v":1915,"d":"1,915"},{"v":2395,"d":"2,395"}]
["lill_3seater","3 seater /two parts/","230x107x84/42","E1536-0500-6S",1.62,92,{"v":11.913,"d":"11.9"},{"v":2860,"d":"2,860"},{"v":3025,"d":"3,025"},{"v":3320,"d":"3,320"},{"v":3610,"d":"3,610"},{"v":3860,"d":"3,860"},{"$f":"[1]LC_LUX!M7-[1]LC_LUX!M7*0.08","v":{"v":5092.2,"d":"5,092"}},"E0536-0500-6",0.04,{"v":7.3,"d":"7"},{"v":11.913,"d":"11.9"},{"v":1865,"d":"1,865"},{"v":1810,"d":"1,810"},{"v":1805,"d":"1,805"},{"v":1765,"d":"1,765"},{"v":1680,"d":"1,680"},{"v":2100,"d":"2,100"},"E1536-0500-4S",1.62,92,{"v":11.913,"d":"11.9"},{"v":2950,"d":"2,950"},{"v":3120,"d":"3,120"},{"v":3420,"d":"3,420"},{"v":3720,"d":"3,720"},{"v":3980,"d":"3,980"},{"v":4615,"d":"4,615"},"E0536-0500-4",0.04,{"v":7.3,"d":"7"},{"v":11.913,"d":"11.9"},{"v":1865,"d":"1,865"},{"v":1810,"d":"1,810"},{"v":1805,"d":"1,805"},{"v":1765,"d":"1,765"},{"v":1680,"d":"1,680"},{"v":2100,"d":"2,100"}]
["lill_2seater","2 seater","200x107x84/42","E1536-0200-6S",{"v":1.397,"d":"1.40"},{"v":65.9,"d":"66"},{"v":10.912,"d":"10.9"},{"v":2380,"d":"2,380"},{"v":2505,"d":"2,505"},{"v":2710,"d":"2,710"},{"v":2925,"d":"2,925"},{"v":3135,"d":"3,135"},{"$f":"[1]LC_LUX!M8-[1]LC_LUX!M8*0.08","v":{"v":4480.4,"d":"4,480"}},"E0536-0200-6",{"v":0.028,"d":"0.03"},{"v":6.7,"d":"7"},{"v":10.912,"d":"10.9"},{"v":1555,"d":"1,555"},{"v":1500,"d":"1,500"},{"v":1475,"d":"1,475"},{"v":1430,"d":"1,430"},{"v":1365,"d":"1,365"},{"v":1705,"d":"1,705"},"E1536-0200-4S",{"v":1.397,"d":"1.40"},{"v":65.9,"d":"66"},{"v":10.912,"d":"10.9"},{"v":2455,"d":"2,455"},{"v":2585,"d":"2,585"},{"v":2795,"d":"2,795"},{"v":3015,"d":"3,015"},{"v":3230,"d":"3,230"},{"v":4035,"d":"4,035"},"E0536-0200-4",{"v":0.028,"d":"0.03"},{"v":6.7,"d":"7"},{"v":10.912,"d":"10.9"},{"v":1555,"d":"1,555"},{"v":1500,"d":"1,500"},{"v":1475,"d":"1,475"},{"v":1430,"d":"1,430"},{"v":1365,"d":"1,365"},{"v":1705,"d":"1,705"}]
["lill_ftst135","footstool 135x60","135x60x42","E1536-1070-6S",0.37,{"v":19.7,"d":"20"},{"v":3,"d":"3.0"},{"v":1020,"d":"1,020"},{"v":1065,"d":"1,065"},{"v":1150,"d":"1,150"},{"v":1230,"d":"1,230"},{"v":1295,"d":"1,295"},{"v":1620,"d":"1,620"},"E0536-1070-6",0.01,3,{"v":3,"d":"3.0"},425,500,595,700,805,{"v":1005,"d":"1,005"},"E1536-1070-4S",0.37,{"v":19.7,"d":"20"},{"v":3,"d":"3.0"},{"v":1055,"d":"1,055"},{"v":1100,"d":"1,100"},{"v":1185,"d":"1,185"},{"v":1270,"d":"1,270"},{"v":1335,"d":"1,335"},{"v":1670,"d":"1,670"},"E0536-1070-4",0.01,3,{"v":3,"d":"3.0"},424,{"v":497.25,"d":"497"},595,{"v":698.5,"d":"699"},801,{"v":1001.25,"d":"1,001"}]
["lill_ftst100","footstool 100x50","100x50x42","E1536-1055-6S",0.22,{"v":15.4,"d":"15"},2.3,840,875,935,995,{"v":1050,"d":"1,050"},{"v":1310,"d":"1,310"},"E0536-1055-6",0.01,3,2.3,350,{"v":409.5,"d":"410"},485,570,650,{"v":812.5,"d":"813"},"E1536-1055-4S",0.22,{"v":15.4,"d":"15"},2.3,870,905,965,{"v":1025,"d":"1,025"},{"v":1085,"d":"1,085"},{"v":1350,"d":"1,350"},"E0536-1055-4",0.01,3,2.3,350,{"v":409.5,"d":"410"},485,{"v":566.5,"d":"567"},648,810]
["lill_pillow_round","pillow round","Ø32","E1536-3232-4S",0.03,1.5,{"v":0.5720000000000001,"d":"0.6"},85,95,{"$f":"[1]LC_LUX!J11-[1]LC_LUX!J11*0.08","v":{"v":892.4,"d":"892"}},125,140,{"$f":"[1]LC_LUX!M11-[1]LC_LUX!M11*0.08","v":{"v":1242,"d":"1,242"}},"E0536-3232-4",{"v":0.011,"d":"0.01"},1,{"v":0.5720000000000001,"d":"0.6"},55,55,60,65,60,75,{"$nulls":4},90,100,115,130,145,185,{"$nulls":4},55,55,60,65,60,75]
[null,"UWAGI","Załączone ceny rekomendowane mają charakter sugerowanych cen sprzedaży. Kupujący nie jest związany cenami rekomendowanymi."]

{"sheet":"DANE Techniczne","index":1,"n_rows":20,"n_cols":7,"rows_kept":20,"hidden":true}
[null,"PL","EN","DE","FR","PL","RU"]
[null,"Cennik zakupu 2020","Purchase Pricelist 2020","Einkaufspreisliste 2020",null,"cennik zakupu","Прайс-лист на покупку 2020"]
[null,"Cennik sprzedaży 2020","Sales Pricelist 2020","9Verkaufspreisliste 2020",null,"cennik sprzedaży","Прайс-лист на продажу 2020"]
[null,"POSZYCIE: tkanina: LC - poszycie luźne lub luźne z rzepem  KOMFORT: standard","UPHOLSTERY: fabric: LC - loose cover  or LCV - loose cover with velcro         \nCOMFORT: standard","AUSFÜHRUNG: Stoff: LC - lose Husse ode LCV - lose Husse mit Klettband,   \nKOMFORT: Standard",null,null,"ОБИВКА: ткань: LC - съемный чехол, КОМФОРТ: lux"]
[null,"DANE TECHNICZNE","TECHNICAL SPECIFICATION","TECHNISCHE DATEN",null,null,"ТЕХНИЧЕСКИЕ ДАННЫЕ"]
[null,"PRZEKRÓJ","PROFILE","QUERSCHNITT","coupe transversale","PRZEKRÓJ","СЕЧЕНИЕ"]
[null,"KOMFORT: standard","COMFORT: standard","KOMFORT: Standard",null,null,"КОМФОРТ: lux"]
[1,"pianka poliuretanowa/ wysokoelastyczna poliuretanowa pianka","polyurethane foam/high resilient polyurethane foam","FCKW-freier Polyurethanschaum/ -hochelastischer Polyurethanschaum","mousse de polyuréthane/ mousse HR ","pianka poliuretanowa/wysokoelastyczna poliuretanowa pianka","пенополиуретан/высокоэластичный пенополиуретан"]
[2,"kulka silikinowa","silicone balls","Silikonabdeckung","rembourrage de coussin en plumes et boules de silicon","komora poduszki - mix pierze z kulkami silikonowymi","камера подушки силиконизированное волокно и пух"]
[3,"sprężyny ","springs","Stahlwellenfederung (Nosag)","ressorts","spręzyny","пружины"]
[4,"FSC® certyfikat lite drewno i elementy drewnopochodne","FSC® certified solid wood and wood based\nelements","FSC® zertifiziertes Massivholz und andere Materialien auf Holzbasis (z.B. Schichtholz)","bois massif et des éléments à base de bois","lite drewno i elementy drewnopochodne","натуральное дерево и древесные материалы"]
[5,"tkanina","fabric","Stoff","tissu","tkanina","ткань "]
[6,"FSC® certyfikat nogi z litego drewna lub noga metalowa ( czarna, szara, chrom stal szczotkowana)","FSC® certified solid wood legs or metal legs (black, grey, chrome, brushed steel)  ","FSC® zertifiziertes Massivholzfüße oder Metallfüße (schwarz, grau, verchromt oder gebürstet)","pieds en bois massif ","nogi z litego drewna","ножки из натурального дерева"]
[null,"Producent zastrzega sobie prawo do zmiany konstrukcji użytych produktów i komponentów ze względu na poprawę trwałości produktu i zadowolenia klienta bez dalszego powiadomienia","The producer reserves the right to change construction of products and compnents used due to improving durability of product and customer satisfaction without any further notice.","Wir behalten uns das Recht vor, neben der Konstruktion auch die verwendeten Komponenten hinsichtlich einer Verbesserung des Modells und der Kundenzufriedenheit ohne vorherige Ankündigung zu ändern"]
[null,"POSZYCIE:","UPHOLSTERY:","AUSFÜHRUNG:",null,null,"ОБИВКА:"]
[null,"tkanina: LC -poszycie luźne lub luźne z rzepem Komfort: standard or lux","fabri: LC - loose cover or LCV - loose cover with velcro,  Comfort: standard or lux","Stoff: LC - lose Husse ode LCV - lose Husse mit Klettband,  Komfort: Standard oder Lux",null,null,"ткань: LC - съемный чехол"]
[null,"NOGI","FEET","FÜßE",null,null,"НОЖКИ"]
[null,"WYBARWIENIA DREWNIANYCH NÓG","COLOURS OF WOODEN FEET","FARBEN DER HOLZFÜßE",null,null,"ВЫКРАСКА ДЕРЕВЯННЫХ НОЖЕК"]
[null,"*Tolerancja +/- 2 cm dla wszystkich rozmiarów elementów","*Explicit +/- 2 cm tolerance of all elements sizes","*Bitte beachten Sie eine Produktionstechnische Toleranz von +/- 2 cm für alle Elementgrößen."]
[null,"If formulas do not refresh automatically please press F9 and Save","If formulas do not refresh automatically please press F9 and Save","sollten die Formel nicht aktualisiert werden, drücken Sie F9 und speichern Sie"]

{"sheet":"Dane Techniczne PL","index":2,"n_rows":22,"n_cols":3,"rows_kept":22,"merged":[[0,0,0,2],[2,0,2,2],[3,0,3,2],[4,0,4,2],[5,0,5,2],[6,0,6,2],[7,0,12,0],[13,0,13,2],[14,0,14,2],[15,0,15,2],[16,0,16,2],[17,0,17,2],[18,0,18,2],[19,0,19,2],[20,0,20,2],[21,0,21,2],[22,0,22,2]]}
[]
[]
[{"$f":"'DANE Techniczne'!B5","v":"DANE TECHNICZNE"}]
[]
[{"$f":"'DANE Techniczne'!B6","v":"PRZEKRÓJ"}]
[{"$f":"'DANE Techniczne'!B7","v":"KOMFORT: standard"}]
[]
[null,1,{"$f":"'DANE Techniczne'!B8","v":"pianka poliuretanowa/ wysokoelastyczna poliuretanowa pianka"}]
[null,2,{"$f":"'DANE Techniczne'!B9","v":"kulka silikinowa"}]
[null,3,{"$f":"'DANE Techniczne'!B10","v":"sprężyny "}]
[null,4,{"$f":"'DANE Techniczne'!B11","v":"FSC® certyfikat lite drewno i elementy drewnopochodne"}]
[null,5,{"$f":"'DANE Techniczne'!B12","v":"tkanina"}]
[null,6,{"$f":"'DANE Techniczne'!B13","v":"FSC® certyfikat nogi z litego drewna lub noga metalowa ( czarna, szara, chrom stal szczotkowana)"}]
[{"$f":"'DANE Techniczne'!B14","v":"Producent zastrzega sobie prawo do zmiany konstrukcji użytych produktów i komponentów ze względu na poprawę trwałości produktu i zadowolenia klienta bez dalszego powiadomienia"}]
[]
[{"$f":"'DANE Techniczne'!B15","v":"POSZYCIE:"}]
[{"$f":"'DANE Techniczne'!B16","v":"tkanina: LC -poszycie luźne lub luźne z rzepem Komfort: standard or lux"}]
[]
[{"$f":"'DANE Techniczne'!B17","v":"NOGI"}]
[]
[]
[{"$f":"'DANE Techniczne'!B18","v":"WYBARWIENIA DREWNIANYCH NÓG"}]

{"sheet":"Cennik zakupu","index":3,"n_rows":41,"n_cols":12,"rows_kept":41,"merged":[[0,0,0,11],[1,0,1,11],[2,0,2,11],[3,0,3,4],[3,5,3,6],[3,8,3,9],[3,10,3,11],[4,1,4,2],[6,1,6,11],[7,0,10,0],[12,1,12,11],[13,0,16,0],[18,1,18,11],[19,0,22,0],[24,1,24,11],[25,0,28,0],[30,1,30,11],[31,0,34,0],[36,1,36,11],[37,0,38,0],[40,0,40,11]]}
[]
[]
[{"$f":"'DANE Techniczne'!B2","v":"Cennik zakupu 2020"}]
[{"$f":"'DANE Techniczne'!B4","v":"POSZYCIE: tkanina: LC - poszycie luźne lub luźne z rzepem  KOMFORT: standard"},{"$nulls":4},{"$f":"DANE!$B$2","v":"Currency:"},null,{"$f":"DANE!$C$2","v":"PLN"},{"$f":"DANE!$B$3","v":"Valid till:"},null,{"$f":"DANE!$C$3","v":"31.12.2021"}]
[{"$f":"DANE!$B$5","v":"DESCRIPTION\nARTICLE No"},{"$f":"DANE!$C$5","v":"DIMENSION*"},null,{"$f":"DANE!$E$5","v":"VOL."},{"$f":"DANE!$F$5","v":"WEIGHT"},{"$f":"DANE!$G$5","v":" FABRIC USAGE"},{"$f":"DANE!$H$5","v":"A"},{"$f":"DANE!$I$5","v":"I"},{"$f":"DANE!$J$5","v":"II"},{"$f":"DANE!$K$5","v":"III"},{"$f":"DANE!$L$5","v":"IV"},{"$f":"DANE!$M$5","v":"E"}]
[]
[{"$f":"DANE!$C$6","v":"270x107x84/42"},{"$f":"DANE!$B$6","v":"4 seater /two parts/"}]
[null,{"$f":"DANE!$D$5","v":"LC"},{"$f":"DANE!D$6","v":"E1536-0900-6S"},{"$f":"DANE!E$6","v":1.89},{"$f":"DANE!F$6","v":108},{"$f":"DANE!G$6","v":{"v":13.904000000000002,"d":"13.9"}},{"$f":"DANE!H$6","v":{"v":3300,"d":"3,300"}},{"$f":"DANE!I$6","v":{"v":3485,"d":"3,485"}},{"$f":"DANE!J$6","v":{"v":3805,"d":"3,805"}},{"$f":"DANE!K$6","v":{"v":4130,"d":"4,130"}},{"$f":"DANE!L$6","v":{"v":4405,"d":"4,405"}},{"$f":"DANE!M$6","v":{"v":5095,"d":"5,095"}}]
[null,{"$f":"DANE!$N$5","v":"LC \nCOVER"},{"$f":"DANE!N$6","v":"E0536-0900-6"},{"$f":"DANE!O$6","v":{"v":0.037,"d":"0.04"}},{"$f":"DANE!P$6","v":{"v":8.5,"d":"9"}},{"$f":"DANE!Q$6","v":{"v":13.904000000000002,"d":"13.9"}},{"$f":"DANE!R$6","v":{"v":2155,"d":"2,155"}},{"$f":"DANE!S$6","v":{"v":2085,"d":"2,085"}},{"$f":"DANE!T$6","v":{"v":2070,"d":"2,070"}},{"$f":"DANE!U$6","v":{"v":2020,"d":"2,020"}},{"$f":"DANE!V$6","v":{"v":1915,"d":"1,915"}},{"$f":"DANE!W$6","v":{"v":2395,"d":"2,395"}}]
[null,{"$f":"DANE!$X$5","v":"LCV"},{"$f":"DANE!X$6","v":"E1536-0900-4S"},{"$f":"DANE!Y$6","v":1.89},{"$f":"DANE!Z$6","v":108},{"$f":"DANE!AA$6","v":{"v":13.904000000000002,"d":"13.9"}},{"$f":"DANE!AB$6","v":{"v":3400,"d":"3,400"}},{"$f":"DANE!AC$6","v":{"v":3590,"d":"3,590"}},{"$f":"DANE!AD$6","v":{"v":3920,"d":"3,920"}},{"$f":"DANE!AE$6","v":{"v":4255,"d":"4,255"}},{"$f":"DANE!AF$6","v":{"v":4540,"d":"4,540"}},{"$f":"DANE!AG$6","v":{"v":5250,"d":"5,250"}}]
[null,{"$f":"DANE!$AH$5","v":"LCV \nCOVER"},{"$f":"DANE!AH6","v":"E0536-0900-4"},{"$f":"DANE!AI6","v":{"v":0.037,"d":"0.04"}},{"$f":"DANE!AJ6","v":{"v":8.5,"d":"9"}},{"$f":"DANE!AK6","v":{"v":13.904000000000002,"d":"13.9"}},{"$f":"DANE!AL6","v":{"v":2155,"d":"2,155"}},{"$f":"DANE!AM6","v":{"v":2085,"d":"2,085"}},{"$f":"DANE!AN6","v":{"v":2070,"d":"2,070"}},{"$f":"DANE!AO6","v":{"v":2020,"d":"2,020"}},{"$f":"DANE!AP6","v":{"v":1915,"d":"1,915"}},{"$f":"DANE!AQ6","v":{"v":2395,"d":"2,395"}}]
[]
[{"$f":"DANE!$C$7","v":"230x107x84/42"},{"$f":"DANE!$B$7","v":"3 seater /two parts/"}]
[null,{"$f":"DANE!$D$5","v":"LC"},{"$f":"DANE!D$7","v":"E1536-0500-6S"},{"$f":"DANE!E$7","v":1.62},{"$f":"DANE!F$7","v":92},{"$f":"DANE!G$7","v":{"v":11.913,"d":"11.9"}},{"$f":"DANE!H$7","v":{"v":2860,"d":"2,860"}},{"$f":"DANE!I$7","v":{"v":3025,"d":"3,025"}},{"$f":"DANE!J$7","v":{"v":3320,"d":"3,320"}},{"$f":"DANE!K$7","v":{"v":3610,"d":"3,610"}},{"$f":"DANE!L$7","v":{"v":3860,"d":"3,860"}},{"$f":"DANE!M$7","v":{"v":5092.2,"d":"5,092"}}]
[null,{"$f":"DANE!$N$5","v":"LC \nCOVER"},{"$f":"DANE!N$7","v":"E0536-0500-6"},{"$f":"DANE!O$7","v":0.04},{"$f":"DANE!P$7","v":{"v":7.3,"d":"7"}},{"$f":"DANE!Q$7","v":{"v":11.913,"d":"11.9"}},{"$f":"DANE!R$7","v":{"v":1865,"d":"1,865"}},{"$f":"DANE!S$7","v":{"v":1810,"d":"1,810"}},{"$f":"DANE!T$7","v":{"v":1805,"d":"1,805"}},{"$f":"DANE!U$7","v":{"v":1765,"d":"1,765"}},{"$f":"DANE!V$7","v":{"v":1680,"d":"1,680"}},{"$f":"DANE!W$7","v":{"v":2100,"d":"2,100"}}]
[null,{"$f":"DANE!$X$5","v":"LCV"},{"$f":"DANE!X$7","v":"E1536-0500-4S"},{"$f":"DANE!Y$7","v":1.62},{"$f":"DANE!Z$7","v":92},{"$f":"DANE!AA$7","v":{"v":11.913,"d":"11.9"}},{"$f":"DANE!AB$7","v":{"v":2950,"d":"2,950"}},{"$f":"DANE!AC$7","v":{"v":3120,"d":"3,120"}},{"$f":"DANE!AD$7","v":{"v":3420,"d":"3,420"}},{"$f":"DANE!AE$7","v":{"v":3720,"d":"3,720"}},{"$f":"DANE!AF$7","v":{"v":3980,"d":"3,980"}},{"$f":"DANE!AG$7","v":{"v":4615,"d":"4,615"}}]
[null,{"$f":"DANE!$AH$5","v":"LCV \nCOVER"},{"$f":"DANE!AH7","v":"E0536-0500-4"},{"$f":"DANE!AI7","v":0.04},{"$f":"DANE!AJ7","v":{"v":7.3,"d":"7"}},{"$f":"DANE!AK7","v":{"v":11.913,"d":"11.9"}},{"$f":"DANE!AL7","v":{"v":1865,"d":"1,865"}},{"$f":"DANE!AM7","v":{"v":1810,"d":"1,810"}},{"$f":"DANE!AN7","v":{"v":1805,"d":"1,805"}},{"$f":"DANE!AO7","v":{"v":1765,"d":"1,765"}},{"$f":"DANE!AP7","v":{"v":1680,"d":"1,680"}},{"$f":"DANE!AQ7","v":{"v":2100,"d":"2,100"}}]
[]
[{"$f":"DANE!$C$8","v":"200x107x84/42"},{"$f":"DANE!$B$8","v":"2 seater"}]
[null,{"$f":"DANE!$D$5","v":"LC"},{"$f":"DANE!D$8","v":"E1536-0200-6S"},{"$f":"DANE!E$8","v":{"v":1.397,"d":"1.40"}},{"$f":"DANE!F$8","v":{"v":65.9,"d":"66"}},{"$f":"DANE!G$8","v":{"v":10.912,"d":"10.9"}},{"$f":"DANE!H$8","v":{"v":2380,"d":"2,380"}},{"$f":"DANE!I$8","v":{"v":2505,"d":"2,505"}},{"$f":"DANE!J$8","v":{"v":2710,"d":"2,710"}},{"$f":"DANE!K$8","v":{"v":2925,"d":"2,925"}},{"$f":"DANE!L$8","v":{"v":3135,"d":"3,135"}},{"$f":"DANE!M$8","v":{"v":4480.4,"d":"4,480"}}]
[null,{"$f":"DANE!$N$5","v":"LC \nCOVER"},{"$f":"DANE!N$8","v":"E0536-0200-6"},{"$f":"DANE!O$8","v":{"v":0.028,"d":"0.03"}},{"$f":"DANE!P$8","v":{"v":6.7,"d":"7"}},{"$f":"DANE!Q$8","v":{"v":10.912,"d":"10.9"}},{"$f":"DANE!R$8","v":{"v":1555,"d":"1,555"}},{"$f":"DANE!S$8","v":{"v":1500,"d":"1,500"}},{"$f":"DANE!T$8","v":{"v":1475,"d":"1,475"}},{"$f":"DANE!U$8","v":{"v":1430,"d":"1,430"}},{"$f":"DANE!V$8","v":{"v":1365,"d":"1,365"}},{"$f":"DANE!W$8","v":{"v":1705,"d":"1,705"}}]
[null,{"$f":"DANE!$X$5","v":"LCV"},{"$f":"DANE!X$8","v":"E1536-0200-4S"},{"$f":"DANE!Y$8","v":{"v":1.397,"d":"1.40"}},{"$f":"DANE!Z$8","v":{"v":65.9,"d":"66"}},{"$f":"DANE!AA$8","v":{"v":10.912,"d":"10.9"}},{"$f":"DANE!AB$8","v":{"v":2455,"d":"2,455"}},{"$f":"DANE!AC$8","v":{"v":2585,"d":"2,585"}},{"$f":"DANE!AD$8","v":{"v":2795,"d":"2,795"}},{"$f":"DANE!AE$8","v":{"v":3015,"d":"3,015"}},{"$f":"DANE!AF$8","v":{"v":3230,"d":"3,230"}},{"$f":"DANE!AG$8","v":{"v":4035,"d":"4,035"}}]
[null,{"$f":"DANE!$AH$5","v":"LCV \nCOVER"},{"$f":"DANE!AH8","v":"E0536-0200-4"},{"$f":"DANE!AI8","v":{"v":0.028,"d":"0.03"}},{"$f":"DANE!AJ8","v":{"v":6.7,"d":"7"}},{"$f":"DANE!AK8","v":{"v":10.912,"d":"10.9"}},{"$f":"DANE!AL8","v":{"v":1555,"d":"1,555"}},{"$f":"DANE!AM8","v":{"v":1500,"d":"1,500"}},{"$f":"DANE!AN8","v":{"v":1475,"d":"1,475"}},{"$f":"DANE!AO8","v":{"v":1430,"d":"1,430"}},{"$f":"DANE!AP8","v":{"v":1365,"d":"1,365"}},{"$f":"DANE!AQ8","v":{"v":1705,"d":"1,705"}}]
[]
[{"$f":"DANE!$C$9","v":"135x60x42"},{"$f":"DANE!$B$9","v":"footstool 135x60"}]
[null,{"$f":"DANE!$D$5","v":"LC"},{"$f":"DANE!D$9","v":"E1536-1070-6S"},{"$f":"DANE!E$9","v":0.37},{"$f":"DANE!F$9","v":{"v":19.7,"d":"20"}},{"$f":"DANE!G$9","v":{"v":3,"d":"3.0"}},{"$f":"DANE!H$9","v":{"v":1020,"d":"1,020"}},{"$f":"DANE!I$9","v":{"v":1065,"d":"1,065"}},{"$f":"DANE!J$9","v":{"v":1150,"d":"1,150"}},{"$f":"DANE!K$9","v":{"v":1230,"d":"1,230"}},{"$f":"DANE!L$9","v":{"v":1295,"d":"1,295"}},{"$f":"DANE!M$9","v":{"v":1620,"d":"1,620"}}]
[null,{"$f":"DANE!$N$5","v":"LC \nCOVER"},{"$f":"DANE!N$9","v":"E0536-1070-6"},{"$f":"DANE!O$9","v":0.01},{"$f":"DANE!P$9","v":3},{"$f":"DANE!Q$9","v":{"v":3,"d":"3.0"}},{"$f":"DANE!R$9","v":425},{"$f":"DANE!S$9","v":500},{"$f":"DANE!T$9","v":595},{"$f":"DANE!U$9","v":700},{"$f":"DANE!V$9","v":805},{"$f":"DANE!W$9","v":{"v":1005,"d":"1,005"}}]
[null,{"$f":"DANE!$X$5","v":"LCV"},{"$f":"DANE!X$9","v":"E1536-1070-4S"},{"$f":"DANE!Y$9","v":0.37},{"$f":"DANE!Z$9","v":{"v":19.7,"d":"20"}},{"$f":"DANE!AA$9","v":{"v":3,"d":"3.0"}},{"$f":"DANE!AB$9","v":{"v":1055,"d":"1,055"}},{"$f":"DANE!AC$9","v":{"v":1100,"d":"1,100"}},{"$f":"DANE!AD$9","v":{"v":1185,"d":"1,185"}},{"$f":"DANE!AE$9","v":{"v":1270,"d":"1,270"}},{"$f":"DANE!AF$9","v":{"v":1335,"d":"1,335"}},{"$f":"DANE!AG$9","v":{"v":1670,"d":"1,670"}}]
[null,{"$f":"DANE!$AH$5","v":"LCV \nCOVER"},{"$f":"DANE!AH9","v":"E0536-1070-4"},{"$f":"DANE!AI9","v":0.01},{"$f":"DANE!AJ9","v":3},{"$f":"DANE!AK9","v":{"v":3,"d":"3.0"}},{"$f":"DANE!AL9","v":424},{"$f":"DANE!AM9","v":{"v":497.25,"d":"497"}},{"$f":"DANE!AN9","v":595},{"$f":"DANE!AO9","v":{"v":698.5,"d":"699"}},{"$f":"DANE!AP9","v":801},{"$f":"DANE!AQ9","v":{"v":1001.25,"d":"1,001"}}]
[]
[{"$f":"DANE!$C$10","v":"100x50x42"},{"$f":"DANE!$B$10","v":"footstool 100x50"}]
[null,{"$f":"DANE!$D$5","v":"LC"},{"$f":"DANE!D$10","v":"E1536-1055-6S"},{"$f":"DANE!E$10","v":0.22},{"$f":"DANE!F$10","v":{"v":15.4,"d":"15"}},{"$f":"DANE!G$10","v":2.3},{"$f":"DANE!H$10","v":840},{"$f":"DANE!I$10","v":875},{"$f":"DANE!J$10","v":935},{"$f":"DANE!K$10","v":995},{"$f":"DANE!L$10","v":{"v":1050,"d":"1,050"}},{"$f":"DANE!M$10","v":{"v":1310,"d":"1,310"}}]
[null,{"$f":"DANE!$N$5","v":"LC \nCOVER"},{"$f":"DANE!N$10","v":"E0536-1055-6"},{"$f":"DANE!O$10","v":0.01},{"$f":"DANE!P$10","v":3},{"$f":"DANE!Q$10","v":2.3},{"$f":"DANE!R$10","v":350},{"$f":"DANE!S$10","v":{"v":409.5,"d":"410"}},{"$f":"DANE!T$10","v":485},{"$f":"DANE!U$10","v":570},{"$f":"DANE!V$10","v":650},{"$f":"DANE!W$10","v":{"v":812.5,"d":"813"}}]
[null,{"$f":"DANE!$X$5","v":"LCV"},{"$f":"DANE!X$10","v":"E1536-1055-4S"},{"$f":"DANE!Y$10","v":0.22},{"$f":"DANE!Z$10","v":{"v":15.4,"d":"15"}},{"$f":"DANE!AA$10","v":2.3},{"$f":"DANE!AB$10","v":870},{"$f":"DANE!AC$10","v":905},{"$f":"DANE!AD$10","v":965},{"$f":"DANE!AE$10","v":{"v":1025,"d":"1,025"}},{"$f":"DANE!AF$10","v":{"v":1085,"d":"1,085"}},{"$f":"DANE!AG$10","v":{"v":1350,"d":"1,350"}}]
[null,{"$f":"DANE!$AH$5","v":"LCV \nCOVER"},{"$f":"DANE!AH10","v":"E0536-1055-4"},{"$f":"DANE!AI10","v":0.01},{"$f":"DANE!AJ10","v":3},{"$f":"DANE!AK10","v":2.3},{"$f":"DANE!AL10","v":350},{"$f":"DANE!AM10","v":{"v":409.5,"d":"410"}},{"$f":"DANE!AN10","v":485},{"$f":"DANE!AO10","v":{"v":566.5,"d":"567"}},{"$f":"DANE!AP10","v":648},{"$f":"DANE!AQ10","v":810}]
[]
[{"$f":"DANE!$C$11","v":"Ø32"},{"$f":"DANE!$B$11","v":"pillow round"}]
[null,{"$f":"DANE!$D$5","v":"LC"},{"$f":"DANE!D$11","v":"E1536-3232-4S"},{"$f":"DANE!E$11","v":0.03},{"$f":"DANE!F$11","v":{"v":1.5,"d":"2"}},{"$f":"DANE!G$11","v":{"v":0.5720000000000001,"d":"0.6"}},{"$f":"DANE!H$11","v":85},{"$f":"DANE!I$11","v":95},{"$f":"DANE!J$11","v":{"v":892.4,"d":"892"}},{"$f":"DANE!K$11","v":125},{"$f":"DANE!L$11","v":140},{"$f":"DANE!M$11","v":{"v":1242,"d":"1,242"}}]
[null,{"$f":"DANE!$N$5","v":"LC \nCOVER"},{"$f":"DANE!N$11","v":"E0536-3232-4"},{"$f":"DANE!O$11","v":{"v":0.011,"d":"0.01"}},{"$f":"DANE!P$11","v":1},{"$f":"DANE!Q$11","v":{"v":0.5720000000000001,"d":"0.6"}},{"$f":"DANE!R$11","v":55},{"$f":"DANE!S$11","v":55},{"$f":"DANE!T$11","v":60},{"$f":"DANE!U$11","v":65},{"$f":"DANE!V$11","v":60},{"$f":"DANE!W$11","v":75}]
[]
[{"$f":"'DANE Techniczne'!B19","v":"*Tolerancja +/- 2 cm dla wszystkich rozmiarów elementów"}]

{"sheet":"Sugerowane ceny sprze brutto","index":4,"n_rows":42,"n_cols":14,"rows_kept":42,"merged":[[0,0,0,11],[1,0,1,11],[2,0,2,11],[3,0,3,4],[3,5,3,6],[3,8,3,9],[3,10,3,11],[4,1,4,2],[6,1,6,11],[7,0,10,0],[12,1,12,11],[13,0,16,0],[18,1,18,11],[19,0,22,0],[24,1,24,11],[25,0,28,0],[30,1,30,11],[31,0,34,0],[36,1,36,11],[37,0,38,0],[40,0,40,11],[41,0,41,11]]}
[]
[]
[{"$f":"'DANE Techniczne'!B3","v":"Cennik sprzedaży 2020"},{"$nulls":11},"factor",2.276]
[{"$f":"'DANE Techniczne'!B4","v":"POSZYCIE: tkanina: LC - poszycie luźne lub luźne z rzepem  KOMFORT: standard"},{"$nulls":4},{"$f":"DANE!$B$2","v":"Currency:"},null,{"$f":"DANE!$C$2","v":"PLN"},{"$f":"DANE!$B$3","v":"Valid till:"},null,{"$f":"DANE!$C$3","v":"31.12.2021"},null,{"$f":"'DANE Techniczne'!B20","v":"If formulas do not refresh automatically please press F9 and Save"}]
[{"$f":"DANE!$B$5","v":"DESCRIPTION\nARTICLE No"},{"$f":"DANE!$C$5","v":"DIMENSION*"},null,{"$f":"DANE!$E$5","v":"VOL."},{"$f":"DANE!$F$5","v":"WEIGHT"},{"$f":"DANE!$G$5","v":" FABRIC USAGE"},{"$f":"DANE!$H$5","v":"A"},{"$f":"DANE!$I$5","v":"I"},{"$f":"DANE!$J$5","v":"II"},{"$f":"DANE!$K$5","v":"III"},{"$f":"DANE!$L$5","v":"IV"},{"$f":"DANE!$M$5","v":"E"}]
[]
[{"$f":"DANE!$C$6","v":"270x107x84/42"},{"$f":"DANE!$B$6","v":"4 seater /two parts/"}]
[null,{"$f":"DANE!$D$5","v":"LC"},{"$f":"DANE!D$6","v":"E1536-0900-6S"},{"$f":"DANE!E$6","v":1.89},{"$f":"DANE!F$6","v":108},{"$f":"DANE!G$6","v":{"v":13.904000000000002,"d":"13.9"}},{"$f":"DANE!H$6*N3","v":{"v":7510.799999999999,"d":"7,511"}},{"$f":"DANE!I$6*N3","v":{"v":7931.86,"d":"7,932"}},{"$f":"DANE!J$6*N3","v":{"v":8660.179999999998,"d":"8,660"}},{"$f":"DANE!K$6*N3","v":{"v":9399.88,"d":"9,400"}},{"$f":"DANE!L$6*N3","v":{"v":10025.779999999999,"d":"10,026"}},{"$f":"DANE!M$6*N3","v":{"v":11596.22,"d":"11,596"}}]
[null,{"$f":"DANE!$N$5","v":"LC \nCOVER"},{"$f":"DANE!N$6","v":"E0536-0900-6"},{"$f":"DANE!O$6","v":{"v":0.037,"d":"0.04"}},{"$f":"DANE!P$6","v":{"v":8.5,"d":"9"}},{"$f":"DANE!Q$6","v":{"v":13.904000000000002,"d":"13.9"}},{"$f":"DANE!R$6*N3","v":{"v":4904.78,"d":"4,905"}},{"$f":"DANE!S$6*N3","v":{"v":4745.46,"d":"4,745"}},{"$f":"DANE!T$6*N3","v":{"v":4711.32,"d":"4,711"}},{"$f":"DANE!U$6*N3","v":{"v":4597.5199999999995,"d":"4,598"}},{"$f":"DANE!V$6*N3","v":{"v":4358.54,"d":"4,359"}},{"$f":"DANE!W$6*N3","v":{"v":5451.0199999999995,"d":"5,451"}}]
[null,{"$f":"DANE!$X$5","v":"LCV"},{"$f":"DANE!X$6","v":"E1536-0900-4S"},{"$f":"DANE!Y$6","v":1.89},{"$f":"DANE!Z$6","v":108},{"$f":"DANE!AA$6","v":{"v":13.904000000000002,"d":"13.9"}},{"$f":"DANE!AB$6*N3","v":{"v":7738.4,"d":"7,738"}},{"$f":"DANE!AC$6*N3","v":{"v":8170.839999999999,"d":"8,171"}},{"$f":"DANE!AD$6*N3","v":{"v":8921.92,"d":"8,922"}},{"$f":"DANE!AE$6*N3","v":{"v":9684.38,"d":"9,684"}},{"$f":"DANE!AF$6*N3","v":{"v":10333.039999999999,"d":"10,333"}},{"$f":"DANE!AG$6*N3","v":{"v":11948.999999999998,"d":"11,949"}}]
[null,{"$f":"DANE!$AH$5","v":"LCV \nCOVER"},{"$f":"DANE!AH6","v":"E0536-0900-4"},{"$f":"DANE!AI6","v":{"v":0.037,"d":"0.04"}},{"$f":"DANE!AJ6","v":{"v":8.5,"d":"9"}},{"$f":"DANE!AK6","v":{"v":13.904000000000002,"d":"13.9"}},{"$f":"DANE!AL6*N3","v":{"v":4904.78,"d":"4,905"}},{"$f":"DANE!AM6*N3","v":{"v":4745.46,"d":"4,745"}},{"$f":"DANE!AN6*N3","v":{"v":4711.32,"d":"4,711"}},{"$f":"DANE!AO6*N3","v":{"v":4597.5199999999995,"d":"4,598"}},{"$f":"DANE!AP6*N3","v":{"v":4358.54,"d":"4,359"}},{"$f":"DANE!AQ6*N3","v":{"v":5451.0199999999995,"d":"5,451"}}]
[]
[{"$f":"DANE!$C$7","v":"230x107x84/42"},{"$f":"DANE!$B$7","v":"3 seater /two parts/"}]
[null,{"$f":"DANE!$D$5","v":"LC"},{"$f":"DANE!D$7","v":"E1536-0500-6S"},{"$f":"DANE!E$7","v":1.62},{"$f":"DANE!F$7","v":92},{"$f":"DANE!G$7","v":{"v":11.913,"d":"11.9"}},{"$f":"DANE!H$7*N3","v":{"v":6509.36,"d":"6,509"}},{"$f":"DANE!I$7*N3","v":{"v":6884.9,"d":"6,885"}},{"$f":"DANE!J$7*N3","v":{"v":7556.32,"d":"7,556"}},{"$f":"DANE!K$7*N3","v":{"v":8216.359999999999,"d":"8,216"}},{"$f":"DANE!L$7*N3","v":{"v":8785.359999999999,"d":"8,785"}},{"$f":"DANE!M$7*N3","v":{"v":11589.847199999998,"d":"11,590"}}]
[null,{"$f":"DANE!$N$5","v":"LC \nCOVER"},{"$f":"DANE!N$7","v":"E0536-0500-6"},{"$f":"DANE!O$7","v":0.04},{"$f":"DANE!P$7","v":{"v":7.3,"d":"7"}},{"$f":"DANE!Q$7","v":{"v":11.913,"d":"11.9"}},{"$f":"DANE!R$7*N3","v":{"v":4244.74,"d":"4,245"}},{"$f":"DANE!S$7*N3","v":{"v":4119.5599999999995,"d":"4,120"}},{"$f":"DANE!T$7*N3","v":{"v":4108.179999999999,"d":"4,108"}},{"$f":"DANE!U$7*N3","v":{"v":4017.14,"d":"4,017"}},{"$f":"DANE!V$7*N3","v":{"v":3823.68,"d":"3,824"}},{"$f":"DANE!W$7*N3","v":{"v":4779.599999999999,"d":"4,780"}}]
[null,{"$f":"DANE!$X$5","v":"LCV"},{"$f":"DANE!X$7","v":"E1536-0500-4S"},{"$f":"DANE!Y$7","v":1.62},{"$f":"DANE!Z$7","v":92},{"$f":"DANE!AA$7","v":{"v":11.913,"d":"11.9"}},{"$f":"DANE!AB$7*N3","v":{"v":6714.2,"d":"6,714"}},{"$f":"DANE!AC$7*N3","v":{"v":7101.119999999999,"d":"7,101"}},{"$f":"DANE!AD$7*N3","v":{"v":7783.919999999999,"d":"7,784"}},{"$f":"DANE!AE$7*N3","v":{"v":8466.72,"d":"8,467"}},{"$f":"DANE!AF$7*N3","v":{"v":9058.48,"d":"9,058"}},{"$f":"DANE!AG$7*N3","v":{"v":10503.74,"d":"10,504"}}]
[null,{"$f":"DANE!$AH$5","v":"LCV \nCOVER"},{"$f":"DANE!AH7","v":"E0536-0500-4"},{"$f":"DANE!AI7","v":0.04},{"$f":"DANE!AJ7","v":{"v":7.3,"d":"7"}},{"$f":"DANE!AK7","v":{"v":11.913,"d":"11.9"}},{"$f":"DANE!AL7*N3","v":{"v":4244.74,"d":"4,245"}},{"$f":"DANE!AM7*N3","v":{"v":4119.5599999999995,"d":"4,120"}},{"$f":"DANE!AN7*N3","v":{"v":4108.179999999999,"d":"4,108"}},{"$f":"DANE!AO7*N3","v":{"v":4017.14,"d":"4,017"}},{"$f":"DANE!AP7*N3","v":{"v":3823.68,"d":"3,824"}},{"$f":"DANE!AQ7*N3","v":{"v":4779.599999999999,"d":"4,780"}}]
[]
[{"$f":"DANE!$C$8","v":"200x107x84/42"},{"$f":"DANE!$B$8","v":"2 seater"}]
[null,{"$f":"DANE!$D$5","v":"LC"},{"$f":"DANE!D$8","v":"E1536-0200-6S"},{"$f":"DANE!E$8","v":{"v":1.397,"d":"1.40"}},{"$f":"DANE!F$8","v":{"v":65.9,"d":"66"}},{"$f":"DANE!G$8","v":{"v":10.912,"d":"10.9"}},{"$f":"DANE!H$8*N3","v":{"v":5416.879999999999,"d":"5,417"}},{"$f":"DANE!I$8*N3","v":{"v":5701.379999999999,"d":"5,701"}},{"$f":"DANE!J$8*N3","v":{"v":6167.959999999999,"d":"6,168"}},{"$f":"DANE!K$8*N3","v":{"v":6657.299999999999,"d":"6,657"}},{"$f":"DANE!L$8*N3","v":{"v":7135.259999999999,"d":"7,135"}},{"$f":"DANE!M$8*N3","v":{"v":10197.390399999998,"d":"10,197"}}]
[null,{"$f":"DANE!$N$5","v":"LC \nCOVER"},{"$f":"DANE!N$8","v":"E0536-0200-6"},{"$f":"DANE!O$8","v":{"v":0.028,"d":"0.03"}},{"$f":"DANE!P$8","v":{"v":6.7,"d":"7"}},{"$f":"DANE!Q$8","v":{"v":10.912,"d":"10.9"}},{"$f":"DANE!R$8*N3","v":{"v":3539.18,"d":"3,539"}},{"$f":"DANE!S$8*N3","v":{"v":3413.9999999999995,"d":"3,414"}},{"$f":"DANE!T$8*N3","v":{"v":3357.1,"d":"3,357"}},{"$f":"DANE!U$8*N3","v":{"v":3254.68,"d":"3,255"}},{"$f":"DANE!V$8*N3","v":{"v":3106.74,"d":"3,107"}},{"$f":"DANE!W$8*N3","v":{"v":3880.5799999999995,"d":"3,881"}}]
[null,{"$f":"DANE!$X$5","v":"LCV"},{"$f":"DANE!X$8","v":"E1536-0200-4S"},{"$f":"DANE!Y$8","v":{"v":1.397,"d":"1.40"}},{"$f":"DANE!Z$8","v":{"v":65.9,"d":"66"}},{"$f":"DANE!AA$8","v":{"v":10.912,"d":"10.9"}},{"$f":"DANE!AB$8*N3","v":{"v":5587.58,"d":"5,588"}},{"$f":"DANE!AC$8*N3","v":{"v":5883.459999999999,"d":"5,883"}},{"$f":"DANE!AD$8*N3","v":{"v":6361.419999999999,"d":"6,361"}},{"$f":"DANE!AE$8*N3","v":{"v":6862.139999999999,"d":"6,862"}},{"$f":"DANE!AF$8*N3","v":{"v":7351.48,"d":"7,351"}},{"$f":"DANE!AG$8*N3","v":{"v":9183.66,"d":"9,184"}}]
[null,{"$f":"DANE!$AH$5","v":"LCV \nCOVER"},{"$f":"DANE!AH8","v":"E0536-0200-4"},{"$f":"DANE!AI8","v":{"v":0.028,"d":"0.03"}},{"$f":"DANE!AJ8","v":{"v":6.7,"d":"7"}},{"$f":"DANE!AK8","v":{"v":10.912,"d":"10.9"}},{"$f":"DANE!AL8*N3","v":{"v":3539.18,"d":"3,539"}},{"$f":"DANE!AM8*N3","v":{"v":3413.9999999999995,"d":"3,414"}},{"$f":"DANE!AN8*N3","v":{"v":3357.1,"d":"3,357"}},{"$f":"DANE!AO8*N3","v":{"v":3254.68,"d":"3,255"}},{"$f":"DANE!AP8*N3","v":{"v":3106.74,"d":"3,107"}},{"$f":"DANE!AQ8*N3","v":{"v":3880.5799999999995,"d":"3,881"}}]
[]
[{"$f":"DANE!$C$9","v":"135x60x42"},{"$f":"DANE!$B$9","v":"footstool 135x60"}]
[null,{"$f":"DANE!$D$5","v":"LC"},{"$f":"DANE!D$9","v":"E1536-1070-6S"},{"$f":"DANE!E$9","v":0.37},{"$f":"DANE!F$9","v":{"v":19.7,"d":"20"}},{"$f":"DANE!G$9","v":{"v":3,"d":"3.0"}},{"$f":"DANE!H$9*N3","v":{"v":2321.52,"d":"2,322"}},{"$f":"DANE!I$9*N3*N3","v":{"v":5516.887439999999,"d":"5,517"}},{"$f":"DANE!J$9*N3*N3","v":{"v":5957.202399999998,"d":"5,957"}},{"$f":"DANE!K$9*N3*N3","v":{"v":6371.616479999999,"d":"6,372"}},{"$f":"DANE!L$9*N3*N3","v":{"v":6708.327919999999,"d":"6,708"}},{"$f":"DANE!M$9*N3","v":{"v":3687.12,"d":"3,687"}}]
[null,{"$f":"DANE!$N$5","v":"LC \nCOVER"},{"$f":"DANE!N$9","v":"E0536-1070-6"},{"$f":"DANE!O$9","v":0.01},{"$f":"DANE!P$9","v":3},{"$f":"DANE!Q$9","v":{"v":3,"d":"3.0"}},{"$f":"DANE!R$9*N3","v":{"v":967.3,"d":"967"}},{"$f":"DANE!S$9*N3*N3","v":{"v":2590.0879999999997,"d":"2,590"}},{"$f":"DANE!T$9*N3*N3","v":{"v":3082.2047199999993,"d":"3,082"}},{"$f":"DANE!U$9*N3*N3","v":{"v":3626.123199999999,"d":"3,626"}},{"$f":"DANE!V$9*N3*N3","v":{"v":4170.041679999999,"d":"4,170"}},{"$f":"DANE!W$9*N3","v":{"v":2287.3799999999997,"d":"2,287"}}]
[null,{"$f":"DANE!$X$5","v":"LCV"},{"$f":"DANE!X$9","v":"E1536-1070-4S"},{"$f":"DANE!Y$9","v":0.37},{"$f":"DANE!Z$9","v":{"v":19.7,"d":"20"}},{"$f":"DANE!AA$9","v":{"v":3,"d":"3.0"}},{"$f":"DANE!AB$9*N3","v":{"v":2401.18,"d":"2,401"}},{"$f":"DANE!AC$9*N3*N3","v":{"v":5698.1936,"d":"5,698"}},{"$f":"DANE!AD$9*N3*N3","v":{"v":6138.508559999999,"d":"6,139"}},{"$f":"DANE!AE$9*N3*N3","v":{"v":6578.823519999998,"d":"6,579"}},{"$f":"DANE!AF$9*N3*N3","v":{"v":6915.534959999998,"d":"6,916"}},{"$f":"DANE!AG$9*N3","v":{"v":3800.9199999999996,"d":"3,801"}}]
[null,{"$f":"DANE!$AH$5","v":"LCV \nCOVER"},{"$f":"DANE!AH9","v":"E0536-1070-4"},{"$f":"DANE!AI9","v":0.01},{"$f":"DANE!AJ9","v":3},{"$f":"DANE!AK9","v":{"v":3,"d":"3.0"}},{"$f":"DANE!AL9*N3","v":{"v":965.0239999999999,"d":"965"}},{"$f":"DANE!AM9*N3*N3","v":{"v":2575.8425159999997,"d":"2,576"}},{"$f":"DANE!AN9*N3*N3","v":{"v":3082.2047199999993,"d":"3,082"}},{"$f":"DANE!AO9*N3*N3","v":{"v":3618.3529359999993,"d":"3,618"}},{"$f":"DANE!AP9*N3*N3","v":{"v":4149.320975999999,"d":"4,149"}},{"$f":"DANE!AQ9*N3","v":{"v":2278.845,"d":"2,279"}}]
[]
[{"$f":"DANE!$C$10","v":"100x50x42"},{"$f":"DANE!$B$10","v":"footstool 100x50"}]
[null,{"$f":"DANE!$D$5","v":"LC"},{"$f":"DANE!D$10","v":"E1536-1055-6S"},{"$f":"DANE!E$10","v":0.22},{"$f":"DANE!F$10","v":{"v":15.4,"d":"15"}},{"$f":"DANE!G$10","v":2.3},{"$f":"DANE!H$10*N3","v":{"v":1911.84,"d":"1,912"}},{"$f":"DANE!I$10*N3","v":{"v":1991.4999999999998,"d":"1,992"}},{"$f":"DANE!J$10*N3","v":{"v":2128.06,"d":"2,128"}},{"$f":"DANE!K$10*N3","v":{"v":2264.62,"d":"2,265"}},{"$f":"DANE!L$10*N3","v":{"v":2389.7999999999997,"d":"2,390"}},{"$f":"DANE!M$10*N3","v":{"v":2981.56,"d":"2,982"}}]
[null,{"$f":"DANE!$N$5","v":"LC \nCOVER"},{"$f":"DANE!N$10","v":"E0536-1055-6"},{"$f":"DANE!O$10","v":0.01},{"$f":"DANE!P$10","v":3},{"$f":"DANE!Q$10","v":2.3},{"$f":"DANE!R$10*N3","v":{"v":796.5999999999999,"d":"797"}},{"$f":"DANE!S$10*N3","v":{"v":932.0219999999999,"d":"932"}},{"$f":"DANE!T$10*N3","v":{"v":1103.86,"d":"1,104"}},{"$f":"DANE!U$10*N3","v":{"v":1297.32,"d":"1,297"}},{"$f":"DANE!V$10*N3","v":{"v":1479.3999999999999,"d":"1,479"}},{"$f":"DANE!W$10*N3","v":{"v":1849.2499999999998,"d":"1,849"}}]
[null,{"$f":"DANE!$X$5","v":"LCV"},{"$f":"DANE!X$10","v":"E1536-1055-4S"},{"$f":"DANE!Y$10","v":0.22},{"$f":"DANE!Z$10","v":{"v":15.4,"d":"15"}},{"$f":"DANE!AA$10","v":2.3},{"$f":"DANE!AB$10*N3","v":{"v":1980.12,"d":"1,980"}},{"$f":"DANE!AC$10*N3","v":{"v":2059.7799999999997,"d":"2,060"}},{"$f":"DANE!AD$10*N3","v":{"v":2196.3399999999997,"d":"2,196"}},{"$f":"DANE!AE$10*N3","v":{"v":2332.8999999999996,"d":"2,333"}},{"$f":"DANE!AF$10*N3","v":{"v":2469.4599999999996,"d":"2,469"}},{"$f":"DANE!AG$10*N3","v":{"v":3072.6,"d":"3,073"}}]
[null,{"$f":"DANE!$AH$5","v":"LCV \nCOVER"},{"$f":"DANE!AH10","v":"E0536-1055-4"},{"$f":"DANE!AI10","v":0.01},{"$f":"DANE!AJ10","v":3},{"$f":"DANE!AK10","v":2.3},{"$f":"DANE!AL10*N3","v":{"v":796.5999999999999,"d":"797"}},{"$f":"DANE!AM10*N3","v":{"v":932.0219999999999,"d":"932"}},{"$f":"DANE!AN10*N3","v":{"v":1103.86,"d":"1,104"}},{"$f":"DANE!AO10*N3","v":{"v":1289.3539999999998,"d":"1,289"}},{"$f":"DANE!AP10*N3","v":{"v":1474.848,"d":"1,475"}},{"$f":"DANE!AQ10*N3","v":{"v":1843.56,"d":"1,844"}}]
[]
[{"$f":"DANE!$C$11","v":"Ø32"},{"$f":"DANE!$B$11","v":"pillow round"}]
[null,{"$f":"DANE!$D$5","v":"LC"},{"$f":"DANE!D$11","v":"E1536-3232-4S"},{"$f":"DANE!E$11","v":0.03},{"$f":"DANE!F$11","v":{"v":1.5,"d":"2"}},{"$f":"DANE!G$11","v":{"v":0.5720000000000001,"d":"0.6"}},{"$f":"DANE!H$11*N3","v":{"v":193.45999999999998,"d":"193"}},{"$f":"DANE!I$11*N3","v":{"v":216.21999999999997,"d":"216"}},{"$f":"DANE!J$11*N3","v":{"v":2031.1023999999998,"d":"2,031"}},{"$f":"DANE!K$11*N3","v":{"v":284.5,"d":"285"}},{"$f":"DANE!L$11*N3","v":{"v":318.64,"d":"319"}},{"$f":"DANE!M$11*N3","v":{"v":2826.792,"d":"2,827"}}]
[null,{"$f":"DANE!$N$5","v":"LC \nCOVER"},{"$f":"DANE!N$11","v":"E0536-3232-4"},{"$f":"DANE!O$11","v":{"v":0.011,"d":"0.01"}},{"$f":"DANE!P$11","v":1},{"$f":"DANE!Q$11","v":{"v":0.5720000000000001,"d":"0.6"}},{"$f":"DANE!R$11*N3","v":{"v":125.17999999999999,"d":"125"}},{"$f":"DANE!S$11*N3","v":{"v":125.17999999999999,"d":"125"}},{"$f":"DANE!T$11*N3","v":{"v":136.56,"d":"137"}},{"$f":"DANE!U$11*N3","v":{"v":147.94,"d":"148"}},{"$f":"DANE!V$11*N3","v":{"v":136.56,"d":"137"}},{"$f":"DANE!W$11*N3","v":{"v":170.7,"d":"171"}}]
[]
[{"$f":"'DANE Techniczne'!B19","v":"*Tolerancja +/- 2 cm dla wszystkich rozmiarów elementów"}]
[{"$f":"DANE!$C$12","v":"Załączone ceny rekomendowane mają charakter sugerowanych cen sprzedaży. Kupujący nie jest związany cenami rekomendowanymi."}]